BEGIN:VCALENDAR
VERSION:2.0
PRODID:Icfo
X-PUBLISHED-TTL:P1W
BEGIN:VEVENT
UID:69e81ad435569
DTSTART:20161215T170000Z
SEQUENCE:0
TRANSP:OPAQUE
DTEND:20161215T180000Z
LOCATION:Seu del COLPIS  c/ Roger de Llúria 155\, entresòl 1a.
SUMMARY:COLPIS | XERRADA 'LES INNOVACIONS EN LA LLEI DEL PROCEDIMENT COMÚ D
 E LES ADMINISTRACIONS PÚBLIQUES'
CLASS:PUBLIC
DESCRIPTION:La xerrada tindr&agrave\; lloc el dijous 15 de desembre a les 1
 8h a la seu del Col&middot\;legi\, a Barcelona (carrer de Roger de Ll&uacu
 te\;ria 155-157\, entres&ograve\;l 1a). Anir&agrave\; a c&agrave\;rrec del
  nostre col&middot\;legiat Si&ograve\;n Alique\, llicenciat en Ci&egrave\;
 ncies Pol&iacute\;tiques i Sociologia i Dret\, i t&egrave\;cnic en dret eu
 ropeu.\n&nbsp\;
DTSTAMP:20260422T004820Z
END:VEVENT
END:VCALENDAR