BEGIN:VCALENDAR
VERSION:2.0
PRODID:Icfo
X-PUBLISHED-TTL:P1W
BEGIN:VEVENT
UID:69e7fcbbebb3b
DTSTART:20170426T130000Z
SEQUENCE:0
TRANSP:OPAQUE
DTEND:20170425T160000Z
LOCATION:Seu del Colpis
SUMMARY:COLPIS | Inici del curs Polítiques públiques i innovació social
CLASS:PUBLIC
DESCRIPTION:Els poders p&uacute\;blics dels Estats democr&agrave\;tics actu
 als a revisi&oacute\;. Quins sectors\, continguts i procediments d&rsquo\;
 actuaci&oacute\; tenen els esmentats poders p&uacute\;blics pel que fa als
  vells i nous problemes de car&agrave\;cter col&middot\;lectiu en un momen
 t de canvi d'&egrave\;poca?
DTSTAMP:20260421T223955Z
END:VEVENT
END:VCALENDAR