BEGIN:VCALENDAR
VERSION:2.0
PRODID:Icfo
X-PUBLISHED-TTL:P1W
BEGIN:VEVENT
UID:69e78f1ac912f
DTSTART;VALUE=DATE:20200506
SEQUENCE:0
TRANSP:OPAQUE
LOCATION:Online
SUMMARY:COLPIS | DEBAT ONLINE: ELS EFECTES DE LA COVID-19 EN LA POLÍTICA CA
 TALANA I ESPANYOLA  
CLASS:PUBLIC
X-MICROSOFT-CDO-ALLDAYEVENT:TRUE
DTSTAMP:20260421T145210Z
END:VEVENT
END:VCALENDAR