BEGIN:VCALENDAR
VERSION:2.0
PRODID:Icfo
X-PUBLISHED-TTL:P1W
BEGIN:VEVENT
UID:69eb1abd58266
DTSTART;VALUE=DATE:20090511
SEQUENCE:0
TRANSP:OPAQUE
LOCATION:Col·legi de Politòlegs i Sociòlegs de Catalunya (c/ Roger de Llúri
 a\, 155-157\, entresòl 1a. Barcelona)
SUMMARY:COLPIS | SESSIÓ DE TREBALL: 'ACTITUDS POLÍTIQUES I COMPORTAMENT ELE
 CTORAL A CATALUNYA'
CLASS:PUBLIC
DESCRIPTION:El Col&middot\;legi va acollir aquesta sessi&oacute\; de trebal
 l on va debatre sobre l'actitud pol&iacute\;tica i el comportament elector
 al a Catalunya.
X-MICROSOFT-CDO-ALLDAYEVENT:TRUE
DTSTAMP:20260424T072445Z
END:VEVENT
END:VCALENDAR