BEGIN:VCALENDAR
VERSION:2.0
PRODID:Icfo
X-PUBLISHED-TTL:P1W
BEGIN:VEVENT
UID:69ece1508bf92
DTSTART:20231121T153000Z
SEQUENCE:0
TRANSP:OPAQUE
DTEND:20231121T163000Z
LOCATION:En línia
SUMMARY:COLPIS | COL·LOQUI 'ELS NOSTRES GOVERNANTS RESPONEN A UNS ESTEREOTI
 PS? EL CAS CATALÀ'
CLASS:PUBLIC
DESCRIPTION:Dimarts 21 de novembre comptarem amb el doctor en Ci&egrave\;nc
 ia Pol&iacute\;tica Jes&uacute\;s Palomar\, amb qui debatrem al voltant de
  la q&uuml\;esti&oacute\; sobre si els nostres governants responen o no a 
 uns estereotips determinats. Ho farem a partir de la seva tesi doctoral 'E
 ls consellers i les conselleres de la Generalitat de Catalunya dels govern
 s Maragall\, Montilla i Mas (2003-2016)'.
DTSTAMP:20260425T154416Z
END:VEVENT
END:VCALENDAR